BEGIN:VCALENDAR
VERSION:2.0
PRODID:-//Logan Consulting - ECPv6.15.20//NONSGML v1.0//EN
CALSCALE:GREGORIAN
METHOD:PUBLISH
X-WR-CALNAME:Logan Consulting
X-ORIGINAL-URL:https://www.loganconsulting.com
X-WR-CALDESC:Events for Logan Consulting
REFRESH-INTERVAL;VALUE=DURATION:PT1H
X-Robots-Tag:noindex
X-PUBLISHED-TTL:PT1H
BEGIN:VTIMEZONE
TZID:America/Chicago
BEGIN:DAYLIGHT
TZOFFSETFROM:-0600
TZOFFSETTO:-0500
TZNAME:CDT
DTSTART:20220313T080000
END:DAYLIGHT
BEGIN:STANDARD
TZOFFSETFROM:-0500
TZOFFSETTO:-0600
TZNAME:CST
DTSTART:20221106T070000
END:STANDARD
BEGIN:DAYLIGHT
TZOFFSETFROM:-0600
TZOFFSETTO:-0500
TZNAME:CDT
DTSTART:20230312T080000
END:DAYLIGHT
BEGIN:STANDARD
TZOFFSETFROM:-0500
TZOFFSETTO:-0600
TZNAME:CST
DTSTART:20231105T070000
END:STANDARD
BEGIN:DAYLIGHT
TZOFFSETFROM:-0600
TZOFFSETTO:-0500
TZNAME:CDT
DTSTART:20240310T080000
END:DAYLIGHT
BEGIN:STANDARD
TZOFFSETFROM:-0500
TZOFFSETTO:-0600
TZNAME:CST
DTSTART:20241103T070000
END:STANDARD
BEGIN:DAYLIGHT
TZOFFSETFROM:-0600
TZOFFSETTO:-0500
TZNAME:CDT
DTSTART:20250309T080000
END:DAYLIGHT
BEGIN:STANDARD
TZOFFSETFROM:-0500
TZOFFSETTO:-0600
TZNAME:CST
DTSTART:20251102T070000
END:STANDARD
END:VTIMEZONE
BEGIN:VEVENT
DTSTART;VALUE=DATE:20241104
DTEND;VALUE=DATE:20241107
DTSTAMP:20260424T094601
CREATED:20240807T180514Z
LAST-MODIFIED:20240807T180636Z
UID:18197-1730678400-1730937599@www.loganconsulting.com
SUMMARY:QAD Transform Americas 2024
DESCRIPTION:QAD Transform Americas will take place on November 4-6 at the Fairmont Millennium Park in Chicago\, IL.
URL:https://www.loganconsulting.com/event/qad-transform-americas/
LOCATION:Fairmont Millennium Park\, 200 N Columbus Dr\, Chicago\, IL\, 60601
END:VEVENT
BEGIN:VEVENT
DTSTART;VALUE=DATE:20241013
DTEND;VALUE=DATE:20241016
DTSTAMP:20260424T094601
CREATED:20240807T174052Z
LAST-MODIFIED:20240807T174413Z
UID:18190-1728777600-1729036799@www.loganconsulting.com
SUMMARY:Southeastern User Group Fall 2024 Conference
DESCRIPTION:The Southeastern User Group Fall 2024 Conference will take place on October 13-15 in Greenville\, South Carolina at the Westin Poinsett. \n 
URL:https://www.loganconsulting.com/event/southeastern-user-group-fall-2024-conference/
LOCATION:Westin Poinsett\, 120 South Main Street\, Greenville\, South Carolina\, 29601
END:VEVENT
BEGIN:VEVENT
DTSTART;VALUE=DATE:20240915
DTEND;VALUE=DATE:20240918
DTSTAMP:20260424T094601
CREATED:20240807T172225Z
LAST-MODIFIED:20240807T175021Z
UID:18187-1726358400-1726617599@www.loganconsulting.com
SUMMARY:Midwest User Group Fall 2024 Conference
DESCRIPTION:The Midwest User Group Fall 2024 Conference will take place September 15-17 at the Amway Grand Plaza in Grand Rapids\, MI.
URL:https://www.loganconsulting.com/event/midwest-user-group-fall-2024-conference-2/
LOCATION:Amway Grand Plaza\, 187 Monroe Avenue NW\, Grand Rapids\, Michigan\, 49503
END:VEVENT
BEGIN:VEVENT
DTSTART;TZID=America/Chicago:20230228T110000
DTEND;TZID=America/Chicago:20230228T120000
DTSTAMP:20260424T094601
CREATED:20230228T164623Z
LAST-MODIFIED:20230323T151648Z
UID:14743-1677582000-1677585600@www.loganconsulting.com
SUMMARY:Acumatica vs. Dynamics Business Central
DESCRIPTION:View Recording  View Slides \nLogan Consulting is hosting a webinar on Tuesday February 28th highlighting Business Central and Acumatica\, two of the leading cloud-based ERP software choices for businesses today. You can expect a robust presentation that will help you: \n\nUnderstand the similarities in functionality and fit between the two solutions.\nUnderstand some of the major differences between Business Central and Acumatica in functionality and approach.\nUnderstand the reporting functionality and customization capabilities for both systems.\nTake a closer look at how user experience is prioritized within each software.
URL:https://www.loganconsulting.com/event/acumatica-vs-dynamics-business-central/
ATTACH;FMTTYPE=image/jpeg:https://www.loganconsulting.com/wp-content/uploads/2023/01/linkedin-sales-solutions-YDVdprpgHv4-unsplash-scaled.jpg
END:VEVENT
BEGIN:VEVENT
DTSTART;TZID=America/Chicago:20230202T100000
DTEND;TZID=America/Chicago:20230202T110000
DTSTAMP:20260424T094601
CREATED:20230414T162807Z
LAST-MODIFIED:20230711T224157Z
UID:15130-1675332000-1675335600@www.loganconsulting.com
SUMMARY:The Future of Dynamics GP
DESCRIPTION:View Recording View Slides \nLogan Consulting is hosting a webinar to discuss the future of Dynamics GP\, and we will take a closer look at different options for current GP users through conversations focused on: \n\nDiscussing the difference between cloud-based and on-premise software and the benefits of both.\nDetermining whether or not your company should migrate to Business Central.\nUnpacking what a migration to a different solution entails.\nLooking at options of integration that are not Microsoft solutions.\n\nThere will be time for any questions at the end of the presentation. Be prepared for a robust conversation about GP’s history\, where it’s headed\, and how you can best prepare for its future.
URL:https://www.loganconsulting.com/event/the-future-of-dynamics-gp/
ATTACH;FMTTYPE=image/jpeg:https://www.loganconsulting.com/wp-content/uploads/2022/11/helena-lopes-2MBtXGq4Pfs-unsplash-scaled.jpg
END:VEVENT
END:VCALENDAR